BEGIN:VCALENDAR
VERSION:2.0
BEGIN:VEVENT
UID:29DE17C2-7293-4F8F-BC3D-BC9B59693486
DTSTART:20230826T084500Z
DTEND:20230826T123000Z
SUMMARY:Operation Christmas Child Workshop
DESCRIPTION:You are invited to our 7th annual Operation Christmas Child Wor
 kshop !  Register now !  \n Who should attend: Anyone who loves packing OC
 C shoeboxes Anyone who desires to learn more about the mission and impact
  of OCC  Anyone who leads or assists in shoebox packing efforts Anyone who
  hosts\, or wishes to host\, a packing party and invite neighbors\, friend
 s\, family\, etc. Anyone looking for a way to serve the Lord for through E
 vangelism\, Discipleship\, and Multiplication of the Gospel message Studen
 ts looking for leadership opportunities Local Christian business owners lo
 oking for opportunities to give back Pastors and church staff members\nCot
 tonwood Creek Church\n1015 Sam Rayburn Tollway\nAllen\, TX 75013 United St
 ates\n
LOCATION:1015 Sam Rayburn Tollway\, Allen\, TX 75013
URL:http://plano.bubblelife.com/community/operation_christmas_child_collin_
 county/library/358782700/key/3511923990/Operation_Christmas_Child_Workshop
CREATED:20230725T024526Z
LAST-MODIFIED:20230725T024526Z
DTSTAMP:20260425T153607Z
CLASS:PUBLIC
STATUS:CONFIRMED
TRANSP:TRANSPARENT
SEQUENCE:1
END:VEVENT
END:VCALENDAR
