BEGIN:VCALENDAR
VERSION:2.0
BEGIN:VEVENT
UID:BF02B1FA-F2B3-4841-BFE4-65D285E9BF7E
DTSTART:20230429T100000Z
DTEND:20230429T113000Z
SUMMARY:Operation Christmas Child Celebration
DESCRIPTION:2022 was another RECORD-BREAKING year for Operation Christmas C
 hild in Collin County South--the third in a row!  Let’s come together for
  a time of celebration\, prayer\, and thanksgiving for all that the Lord d
 id through you and through this ministry.\nParkway Hills Baptist Church\n2
 700 Dallas Pkwy\nPlano\, TX 75093 United States\n
LOCATION:2700 Dallas Pkwy\, Plano\, TX 75093
URL:http://plano.bubblelife.com/community/operation_christmas_child_collin_
 county/library/358782700/key/3511919484/Operation_Christmas_Child_Celebrat
 ion
CREATED:20230414T211228Z
LAST-MODIFIED:20230414T211228Z
DTSTAMP:20260425T153625Z
CLASS:PUBLIC
STATUS:CONFIRMED
TRANSP:TRANSPARENT
SEQUENCE:1
END:VEVENT
END:VCALENDAR
