BEGIN:VCALENDAR
VERSION:2.0
BEGIN:VEVENT
UID:3F34DFBB-FB46-4776-BC79-10ED84C5224E
DTSTART:20240703T170000Z
DTEND:20240703T210000Z
SUMMARY:Independence Day After-Hours Fireworks Show
DESCRIPTION:Hawaiian Falls Mansfield waterpark will host an  after-hours ev
 ent  to watch the City of Mansfield fireworks show Wednesday\, July 3 in c
 elebration of Independence Day. At 5 pm\, an after-hours DJ party begins\,
  complete with a Foam cannon and Independence Day beverages and food. The
  fireworks show will begin after sunset.  \nTo attend the event\, guests m
 ust purchase the Fireworks Frenzy Package before June 30. This package inc
 ludes all-day admission to Hawaiian Falls Mansfield\, free parking\, After
  Hours Fireworks Frenzy admission\, and an all-day drink wristband. Season
  Pass Holders are offered a discount on this package. Guests are also welc
 ome to enjoy the park during the day from 10:30 am – 5 pm with a regular a
 dmission ticket. \n Hawaiian Falls Mansfield \n490 Heritage Pkwy  \nMansfi
 eld 76063  \n Contact: (817) 853-0050    \n   \n WHEN:    Wednesday\, July
  3  \n10:30 am Park opens to public \n5 pm DJ Dance Party begins\; park is
  only open to guests who purchased the Fireworks Frenzy package \nFirework
  show begins after sunset. \nPark closes immediately after fireworks show
  ends.  \n                          \n Event website:  https://hfalls.com/
 specials-events.php \nEvent Ticket URL:  https://webhost.corecashless.com/
 hawaiianfalls/mansfield/sales/?p=is12t4ym \nFacebook:  https://www.faceboo
 k.com/HFalls/ \n  \nTwitter:  https://x.com/HawaiianFalls   \n  \n https:/
 /www.instagram.com/hawaiianfalls/ \n  \nYoutube:  https://www.youtube.com/
 channel/UClge2enlzoT62wP7gC4AUdg\nHawaiian Falls Mansfield\n490 Heritage P
 kwy\nMansfield\, 76063 United States\n
LOCATION:490 Heritage Pkwy\, Mansfield\, 76063
URL:http://plano.bubblelife.com/community/aardvark_communications/library/3
 5964942/key/3511866581/Independence_Day_After-Hours_Fireworks_Show
CREATED:20240617T192817Z
LAST-MODIFIED:20240617T192817Z
DTSTAMP:20260421T090759Z
CLASS:PUBLIC
STATUS:CONFIRMED
TRANSP:TRANSPARENT
SEQUENCE:1
END:VEVENT
END:VCALENDAR
