BEGIN:VCALENDAR
VERSION:2.0
BEGIN:VEVENT
UID:770B8178-A23F-4858-BA06-735299A3956D
DTSTART:20240712T180000Z
DTEND:20240712T190000Z
SUMMARY:Hawaiian Falls Swift Summer Nights Mansfield
DESCRIPTION:Hawaiian Falls Swift Summer Nights - Hawaiian Falls Mansfield \
 nEnjoy a night of fun and great music as Pepsi presents Lover- A Taylor Sw
 ift Tribute band on Friday\, July 12! In addition to a great time\, you ca
 n sample FREE Pepsi products\, play Pepsi-themed Ohana games and enjoy lim
 ited time only MUG root beer floats. The concert will be on the wave pool
  deck from 6pm - 7pm. This event is free with the purchase of a regular pa
 rk ticket.   \n \n \n  \n WHEN: Friday\, July 12. The concert will be on t
 he wave pool deck from 6pm - 7pm.     \n  WHERE:  Hawaiian Falls Mansfield
   490 Heritage Pkwy  Mansfield\, TX  76063  Contact: (817) 853-0050     \n
   \nLinks:  Event website:  https://hfalls.com/specials-events.php \nEvent
  Ticket URL:  https://hfalls.com/daily-admission.php   \nFacebook:  https:
 //www.facebook.com/HFalls/ \nTwitter:  https://x.com/HawaiianFalls   \n ht
 tps://www.instagram.com/hawaiianfalls/ Youtube:  https://www.youtube.com/c
 hannel/UClge2enlzoT62wP7gC4AUdg\nHawaiian Falls Mansfield\n490 Heritage Pk
 wy\nMansfield\, TX 76063 United States\n
LOCATION:490 Heritage Pkwy\, Mansfield\, TX 76063
URL:http://plano.bubblelife.com/community/aardvark_communications/library/3
 5964942/key/3511865591/Hawaiian_Falls_Swift_Summer_Nights_Mansfield
CREATED:20240619T162057Z
LAST-MODIFIED:20240619T162057Z
DTSTAMP:20260421T090759Z
CLASS:PUBLIC
STATUS:CONFIRMED
TRANSP:TRANSPARENT
SEQUENCE:1
END:VEVENT
END:VCALENDAR
