BEGIN:VCALENDAR
VERSION:2.0
BEGIN:VEVENT
UID:ECB91064-5943-45C7-B3E2-74F578EA1798
DTSTART:20240726T180000Z
DTEND:20240726T190000Z
SUMMARY:Hawaiian Falls Swift Summer Nights Roanoke
DESCRIPTION:Hawaiian Falls Swift Summer Nights - Hawaiian Falls Roanoke \n
   \n \n \nEnjoy a night of fun and great music as Pepsi presents Lover- A
  Taylor Swift Tribute band on Friday\, July 26! In addition to a great tim
 e\, you can sample FREE Pepsi products\, play Pepsi-themed Ohana games and
  enjoy limited time only MUG root beer floats. The concert will be on the
  wave pool deck from 6pm - 7pm. This event is free with the purchase of a
  regular park ticket.   \n  \n WHEN: Friday\, July 26. The concert will be
  on the wave pool deck from 6pm - 7pm.     \n  WHERE:   Hawaiian Falls Roa
 noke  290 W Byron Nelson Blvd  Roanoke\, TX  76262 Contact: (817) 853-0099
      \n  \nLinks:  Event website:  https://hfalls.com/specials-events.php
  \nEvent Ticket URL:  https://hfalls.com/daily-admission.php   \nFacebook:
   https://www.facebook.com/HFalls/ \nTwitter:  https://x.com/HawaiianFalls
    \n https://www.instagram.com/hawaiianfalls/ Youtube:  https://www.youtu
 be.com/channel/UClge2enlzoT62wP7gC4AUdg\nHawaiian Falls Roanoke\n290 W Byr
 on Nelson Blvd\nRoanoke\, TX 76262 United States\n
LOCATION:290 W Byron Nelson Blvd\, Roanoke\, TX 76262
URL:http://plano.bubblelife.com/community/aardvark_communications/library/3
 5964942/key/3511865563/Hawaiian_Falls_Swift_Summer_Nights_Roanoke
CREATED:20240619T161326Z
LAST-MODIFIED:20240619T161326Z
DTSTAMP:20260421T090710Z
CLASS:PUBLIC
STATUS:CONFIRMED
TRANSP:TRANSPARENT
SEQUENCE:1
END:VEVENT
END:VCALENDAR
