BEGIN:VCALENDAR
VERSION:2.0
BEGIN:VEVENT
UID:BAFD00EE-4A5C-4A30-A6C4-598A829931DD
DTSTART:20240728T103000Z
DTEND:20240728T180000Z
SUMMARY:National Waterpark Day - Hawaiian Falls Mansfield
DESCRIPTION:National Waterpark Day - Hawaiian Falls Mansfield \n  \n \n \nH
 elp us celebrate National Waterpark Day on July 28th! Daily Admission will
  be half price and Season Pass holders can bring a friend for just $10. Pa
 rk Hours: 10:30 AM - 6:00 PM   \n  \nWHEN: Sunday\, July 28. Park discount
 s available all day.      \n  WHERE:  Hawaiian Falls Mansfield  490 Herita
 ge Pkwy  Mansfield\, TX  76063  Contact: (817) 853-0050    \n  \nLinks:  E
 vent website:  https://hfalls.com/specials-events.php \nEvent Ticket URL:
   https://hfalls.com/daily-admission.php   \nFacebook:  https://www.facebo
 ok.com/HFalls/ \nTwitter:  https://x.com/HawaiianFalls   \n https://www.in
 stagram.com/hawaiianfalls/ Youtube:  https://www.youtube.com/channel/UClge
 2enlzoT62wP7gC4AUdg\nHawaiian Falls Mansfield\n490 Heritage Pkwy\nMansfiel
 d\, TX 76063 United States\n
LOCATION:490 Heritage Pkwy\, Mansfield\, TX 76063
URL:http://plano.bubblelife.com/community/aardvark_communications/library/3
 5964942/key/3511860361/National_Waterpark_Day_-_Hawaiian_Falls_Mansfield
CREATED:20240624T184104Z
LAST-MODIFIED:20240624T184104Z
DTSTAMP:20260421T090759Z
CLASS:PUBLIC
STATUS:CONFIRMED
TRANSP:TRANSPARENT
SEQUENCE:1
END:VEVENT
END:VCALENDAR
