BEGIN:VCALENDAR
VERSION:2.0
BEGIN:VEVENT
UID:2214A21C-3C7B-4CEB-A7E5-9173DE6D2C57
DTSTART:20221113T090000Z
DTEND:20221121T190000Z
SUMMARY:Oper Christmas Shoebox Drop-off Cross Church Wylie
DESCRIPTION:Operation Christmas Child Shoebox Drop-off location \n Wylie\,
  TX – The Cross  Church                                               \n 1
 00 N 1st St  Wylie\, TX 75098                    \nMon\,  Nov 14:    4 PM
   –  7 PM                 \nTue\,   Nov 15:    4 PM  –  7 PM             \
 nWed\,  Nov 16:    4 PM  –  7 PM        \nThu\,   Nov 17:    4 PM  –  7 PM
    \nFri\,     Nov 18:    4 PM  –  7 PM    \nSat\,    Nov 19:  11 AM  –  7
  PM  \nSun\,   Nov 20:    9 AM  –  3 PM   \nMon\,  Nov 21:  12 AM  –  7 PM
 \nThe Cross Church\n100 N 1st St\nWylie\, TX 75098 United States\n
LOCATION:100 N 1st St\, Wylie\, TX 75098
URL:http://plano.bubblelife.com/community/operation_christmas_child_collin_
 county/library/358782700/key/3511675994/Oper_Christmas_Shoebox_Drop-off_Cr
 oss_Church_Wylie
CREATED:20221018T021117Z
LAST-MODIFIED:20221018T021117Z
DTSTAMP:20260425T153608Z
CLASS:PUBLIC
STATUS:CONFIRMED
TRANSP:TRANSPARENT
SEQUENCE:1
END:VEVENT
END:VCALENDAR
