BEGIN:VCALENDAR
VERSION:2.0
BEGIN:VEVENT
UID:F21D15EF-42BB-473A-A407-B2D1D3FF7CF8
DTSTART:20221113T090000Z
DTEND:20221121T190000Z
SUMMARY:Christmas Shoebox Drop-off Cottonwood Creek Allen
DESCRIPTION:Operation Christmas Child Shoebox Drop-off  \n Allen\, TX - Cot
 tonwood C reek Church \n 1015 Sam Rayburn Tollway Allen\, TX 75013 \nMon\,
   Nov 14:   11 AM  –   5 PM \nTue\,   Nov 15:   11 AM  –   5 PM \nWed\,  N
 ov 16:   11 AM  –   5 PM \nThu\,   Nov 17:   11 AM  –   5 PM \nFri\,     N
 ov 18:   11 AM  –   5 PM \nSat\,    Nov 19:     9 AM  – 12 PM \nSun\,   No
 v 20:     9 PM  –   1 PM \nMon\,  Nov 21:     9 AM  –   5 PM\nCottonwood C
 reek Church\n1015 Sam Rayburn Tollway\nAllen\, TX 75013 United States\n
LOCATION:1015 Sam Rayburn Tollway\, Allen\, TX 75013
URL:http://plano.bubblelife.com/community/operation_christmas_child_collin_
 county/library/358782700/key/3511675961/Christmas_Shoebox_Drop-off_Cottonw
 ood_Creek_Allen
CREATED:20221018T020729Z
LAST-MODIFIED:20221018T020729Z
DTSTAMP:20260425T153607Z
CLASS:PUBLIC
STATUS:CONFIRMED
TRANSP:TRANSPARENT
SEQUENCE:1
END:VEVENT
END:VCALENDAR
