BEGIN:VCALENDAR
VERSION:2.0
BEGIN:VEVENT
UID:A50492A6-6AC4-4A31-9491-F13081B008C8
DTSTART:20221113T090000Z
DTEND:20221121T190000Z
SUMMARY:Oper Christmas Shoebox Drop-off - CityBridge Plano
DESCRIPTION:Operation Christmas Child Shoebox Drop-off \n Plano\, TX – City
 Bridge  Community Church                        \n 6400 K Ave Plano\, TX 7
 5074                       \nMon\,  Nov 14:   11 AM  –  2 PM
                         \nTue\,   Nov 15:     4 PM  –   7 PM
                        \nWed\,  Nov 16:  10 AM  –   1 PM
                        \nThu\,   Nov 17:    4 PM  –   7 PM
                        \nFri\,     Nov 18:    5 PM  –   8 PM
                      \nSat\,    Nov 19:  10 AM  –   1 PM
                      \nSun\,   Nov 20:    2 PM  –   5 PM
                      \nMon\,  Nov 21:    9 AM  – 11 AM\nCityBridge Communi
 ty Church\n6400 K Ave\nPlano\, TX 75074 United States\n
LOCATION:6400 K Ave\, Plano\, TX 75074
URL:http://plano.bubblelife.com/community/operation_christmas_child_collin_
 county/library/358782700/key/3511675944/Oper_Christmas_Shoebox_Drop-off_-_
 CityBridge_Plano
CREATED:20221018T020235Z
LAST-MODIFIED:20221018T020235Z
DTSTAMP:20260425T124550Z
CLASS:PUBLIC
STATUS:CONFIRMED
TRANSP:TRANSPARENT
SEQUENCE:1
END:VEVENT
END:VCALENDAR
