BEGIN:VCALENDAR
VERSION:2.0
BEGIN:VEVENT
UID:0B85A646-04D4-43BE-8DFE-1D35EB31519D
DTSTART:20221113T090000Z
DTEND:20221121T190000Z
SUMMARY:Christmas Shoebox Drop-off Parkway Hills Plano
DESCRIPTION:Operation Christmas Child Shoebox Drop-off locaton \n Plano\, T
 X – Parkway Hills  Baptist Church \n 2700 Dallas Parkway  Plano\, TX 75093
  \nMon\,  Nov 14:       3 PM   –       6 PM \nTue\,   Nov 15:  9:30 AM   –
   1:30 PM \nWed\,  Nov 16:       3 PM   –      7 PM \nThu\,   Nov 17:  9:3
 0 AM   –  1:30 PM \nFri\,     Nov 18:     10 AM   –    12 PM \nSat\,    No
 v 19:     10 AM   –    12 PM \nSun\,   Nov 20:     12 PM   –      2 PM \nM
 on\,  Nov 21:     10 AM   –    12 PM\nParkway Hills Baptist Church\n2700 D
 allas Parkway\nPlano\, TX 75093 United States\n
LOCATION:2700 Dallas Parkway\, Plano\, TX 75093
URL:http://plano.bubblelife.com/community/operation_christmas_child_collin_
 county/library/358782700/key/3511675900/Christmas_Shoebox_Drop-off_Parkway
 _Hills_Plano
CREATED:20221018T021450Z
LAST-MODIFIED:20221018T021450Z
DTSTAMP:20260425T153608Z
CLASS:PUBLIC
STATUS:CONFIRMED
TRANSP:TRANSPARENT
SEQUENCE:1
END:VEVENT
END:VCALENDAR
