BEGIN:VCALENDAR
VERSION:2.0
BEGIN:VEVENT
UID:8C47F955-66E0-48A1-AE65-CAF3A46F5C9B
DTSTART:20220827T093000Z
DTEND:20220827T123000Z
SUMMARY:Operation Christmas Child - Workshop
DESCRIPTION:For anyone who packs a shoebox\, oversees a group of shoebox pa
 ckers\, or wants to learn more about the mission and impact of Operation C
 hristmas Child. \n Register now .   We look forward to seeing you.\nCotton
 wood Creek Church\n1015 Sam Rayburn Tollway\nAllen\, TX 75013 United State
 s\n
LOCATION:1015 Sam Rayburn Tollway\, Allen\, TX 75013
URL:http://plano.bubblelife.com/community/operation_christmas_child_collin_
 county/library/358782700/key/3511664194/Operation_Christmas_Child_-_Worksh
 op
CREATED:20220705T152525Z
LAST-MODIFIED:20220705T152525Z
DTSTAMP:20260425T171349Z
CLASS:PUBLIC
STATUS:CONFIRMED
TRANSP:TRANSPARENT
SEQUENCE:1
END:VEVENT
END:VCALENDAR
