BEGIN:VCALENDAR
VERSION:2.0
BEGIN:VEVENT
UID:5BDFD653-59FF-4D78-9C04-FA46657A77C8
DTSTART:20220710T140000Z
DTEND:20220710T150000Z
SUMMARY:Operation Christmas Child - Coffee Chat
DESCRIPTION:Meeting to learn more about year-round volunteer opportunities
  with Operation Christmas Child.\nSweetwaters Coffee and Tea\n3613 Shire B
 lvd Ste 110\nRichardson\, TX 75082 United States\n
LOCATION:3613 Shire Blvd Ste 110\, Richardson\, TX 75082
URL:http://plano.bubblelife.com/community/operation_christmas_child_collin_
 county/library/358782700/key/3511664161/Operation_Christmas_Child_-_Coffee
 _Chat
CREATED:20220705T152253Z
LAST-MODIFIED:20220705T152253Z
DTSTAMP:20260425T153607Z
CLASS:PUBLIC
STATUS:CONFIRMED
TRANSP:TRANSPARENT
SEQUENCE:1
END:VEVENT
END:VCALENDAR
