BEGIN:VCALENDAR
VERSION:2.0
BEGIN:VEVENT
UID:E3C5F328-F9F0-4D7D-AFC8-3DC5BF609F4A
DTSTART:20220910T100000Z
DTEND:20220910T130000Z
SUMMARY:Operation Christmas Child - Workship
DESCRIPTION:This is a fantastic event to help pastors\, volunteers\, friend
 s\, and others catch the vision of Operation Christmas Child and increase
  their passion for this ministry.\nRheas Mill Baptist Church\n5733 N Custe
 r Rd\nMcKinney\, TX 75071 United States\n
LOCATION:5733 N Custer Rd\, McKinney\, TX 75071
URL:http://plano.bubblelife.com/community/operation_christmas_child_collin_
 county/library/358782700/key/3511650622/Operation_Christmas_Child_-_Worksh
 ip
CREATED:20220805T164022Z
LAST-MODIFIED:20220805T164022Z
DTSTAMP:20260425T153723Z
CLASS:PUBLIC
STATUS:CONFIRMED
TRANSP:TRANSPARENT
SEQUENCE:1
END:VEVENT
END:VCALENDAR
