BEGIN:VCALENDAR
VERSION:2.0
BEGIN:VEVENT
UID:ACDCEC42-F0E7-45AE-9E2D-37DD726D327F
DTSTART:20221218T150000Z
DTEND:20221218T160000Z
SUMMARY:Service of Comfort and Hope
DESCRIPTION:On December 18 \, St. Andrew will hold a Service of Comfort and
  Hope \, designed for those experiencing grief and loss\, at 3 p.m. in the
  sanctuary. The service will feature musical presentations as well as insp
 irational words to provide hope and healing. \nVisit https://www.standrewm
 ethodist.org/Christmas\nSt. Andrew United Methodist Church\n5801 W. Plano
  Parkway\nPlano\, TX 75093 United States\n
LOCATION:5801 W. Plano Parkway\, Plano\, TX 75093
URL:http://plano.bubblelife.com/community/st_andrew_united_methodist_church
 seven_loaves_community/library/35573500/key/3511513901/Service_of_Comfort_
 and_Hope
CREATED:20221121T212045Z
LAST-MODIFIED:20221121T212045Z
DTSTAMP:20260424T234214Z
CLASS:PUBLIC
STATUS:CONFIRMED
TRANSP:TRANSPARENT
SEQUENCE:1
END:VEVENT
END:VCALENDAR
