BEGIN:VCALENDAR
VERSION:2.0
BEGIN:VEVENT
UID:BF5B323F-A5CC-42B7-BA9C-B3A56F566C01
DTSTART:20250326T100000Z
DTEND:20250326T210000Z
SUMMARY:Jersey Mike’s and Wipe Out Kids’ Cancer Unite
DESCRIPTION:Wipe Out Kids’ Cancer (WOKC) is teaming up with 88 Jersey Mike’
 s Subs locations across DFW in March to raise funds in the fight against p
 ediatric cancer. As part of  Jersey Mike’s 15th Annual   Month of Giving \
 , the campaign will culminate on  Wednesday\, March 26 \, with  100% of al
 l sales  donated to WOKC in support of DFW kids (and their families) battl
 ing cancer. \n“Ever since I lost my mother to cancer\, I have made it my m
 ission to provide hope for those facing this disease\,” said Wipe Out Kids
  Cancer Founder\, Cindy Brinker Simmons. “We are incredibly grateful to pa
 rtner with Jersey Mike’s for the 15th year and deeply appreciate their gen
 erous customers as we continue to touch the lives of families in our commu
 nity.” \nKnown for its authentic fresh sliced/fresh grilled subs\, Jersey
  Mike’s 15th Annual Month of Giving fundraising campaign helps make a diff
 erence in the lives of children battling this devastating disease. \nDurin
 g the month of March\, customers can choose to round up their purchase to
  the nearest dollar or donate $1\, $3\, or $5 when placing their order. \n
 The highlight of the Month of Giving campaign is  Jersey Mike’s Day of Giv
 ing on Wednesday\, March 26 \, the largest fundraising opportunity of the
  campaign. On this day\, customers are invited to visit their local Jersey
  Mike’s with 100% of the day’s sales\, donated to WOKC. \n“Wipe Out Kids C
 ancer is dedicated to fighting pediatric cancer and the funds raised durin
 g the Jersey Mike’s Annual Month of Giving will support programs that serv
 e the entire family and provide comfort and hope during this difficult tim
 e\,” said Kris Cumnock\, CEO of WOKC. “Our partnership with Jersey Mike’s
  allows us to continue to positively impact kids and families throughout D
 FW.” \nEvery sandwich purchased\, every rounded-up order\, and every dolla
 r donated will help children in the Dallas-Fort Worth Metroplex. Join the
  fight against pediatric cancer by visiting your local Jersey Mike’s this
  March—because every bite provides a ray of sunshine for families who need
  it most. \nAs a result of remarkable medical advancements\, the survival
  rate for childhood cancer has risen from 10% forty years ago to 85% today
 . However\, the number of diagnosed cases has remained  unchanged for near
 ly two decades .  \nEvery diagnosis shatters a family’s world\, and WOKC i
 s committed to helping children and their loved ones navigate the most dif
 ficult time of their lives. The services WOKC provides to the entire famil
 y makes that possible and the cutting-edge research WOKC funds make treatm
 ents less invasive and more effective.  \n About Jersey Mike’s \nSince 195
 6\, Jersey Mike’s has been serving  A Sub Above . Customers can count on a
 n authentic tasting submarine sandwich made with high quality ingredients
  on every visit. Fresh-baked bread\, freshly sliced meats and cheeses\, an
 d made-to-order subs are all guaranteed. Making a difference in local comm
 unities is at the heart of Jersey Mike’s mission. This year\, Jersey Mike’
 s is celebrating its 15th annual Month of Giving aiming to raise record-br
 eaking amounts for more than 200 charities across America. For more on Jer
 sey Mike’s\, follow on  Facebook \,  Instagram \,  Twitter \, or visit  je
 rseymikes.com . \n About Wipe Out Kids’ Cancer \nFounded in 1980\, Wipe Ou
 t Kids’ Cancer offers comfort and hope to kids with cancer through support
  programs that serve entire families. One of those programs is the iconic
  “Buddy Bag” that is waiting on every child hospitalized with cancer in DF
 W. WOKC also prioritizes investing in innovative research that leads to ne
 w discoveries and advancements in treatments in the fight against pediatri
 c cancer. For more information on WOKC\, follow on  Facebook \,  Instagram
  \,  Twitter  or visit  WOKC.org .\nJersey Mike's\nUnited States\n
URL:http://plano.bubblelife.com/community/aardvark_communications/library/3
 5964942/key/3511391804/Jersey_Mikes_and_Wipe_Out_Kids_Cancer_Unite
CREATED:20250305T000540Z
LAST-MODIFIED:20250305T000540Z
DTSTAMP:20260421T103258Z
CLASS:PUBLIC
STATUS:CONFIRMED
TRANSP:TRANSPARENT
SEQUENCE:1
END:VEVENT
END:VCALENDAR
