BEGIN:VCALENDAR
VERSION:2.0
BEGIN:VEVENT
UID:D1DC6DE9-A9E7-4AC3-A4A1-624EB8714F86
DTSTART:20250823T090000Z
DTEND:20250823T120000Z
SUMMARY:OCC Workshop 2025
DESCRIPTION:MISSION POSSIBLE – 2025 Operation Christmas Child Workshop host
 ed by the Collin County South Area Team\nCottonwood Creek Church\n1015 Sam
  Rayburn Tollway\nAllen\, TX 75013 United States\n
LOCATION:1015 Sam Rayburn Tollway\, Allen\, TX 75013
URL:http://plano.bubblelife.com/community/operation_christmas_child_collin_
 county/library/358782700/key/3511378180/OCC_Workshop_2025
CREATED:20250802T142918Z
LAST-MODIFIED:20250802T142918Z
DTSTAMP:20260425T153607Z
CLASS:PUBLIC
STATUS:CONFIRMED
TRANSP:TRANSPARENT
SEQUENCE:1
END:VEVENT
END:VCALENDAR
