BEGIN:VCALENDAR
VERSION:2.0
BEGIN:VEVENT
UID:40D575B9-48BD-47F2-B8D5-6802DCEFD9C8
DTSTART:20240413T094500Z
DTEND:20240413T120000Z
SUMMARY:Operation Christmas Child Celebration Event
DESCRIPTION:You are invited to the Collin County South Celebration Event \,
  a fantastic opportunity to celebrate another record-breaking year in shoe
 box donations.   Register now !\nParkway Hills Baptist Church\n2700 Dallas
  Pkwy\nPlano\, TX 75093 United States\n
LOCATION:2700 Dallas Pkwy\, Plano\, TX 75093
URL:http://plano.bubblelife.com/community/operation_christmas_child_collin_
 county/library/358782700/key/3511297900/Operation_Christmas_Child_Celebrat
 ion_Event
CREATED:20240325T014107Z
LAST-MODIFIED:20240325T014107Z
DTSTAMP:20260425T172524Z
CLASS:PUBLIC
STATUS:CONFIRMED
TRANSP:TRANSPARENT
SEQUENCE:1
END:VEVENT
END:VCALENDAR
