BEGIN:VCALENDAR
VERSION:2.0
BEGIN:VEVENT
UID:D4E866D8-E45E-4053-9832-FC4056677431
DTSTART:20220408T100000Z
DTEND:20220410T180000Z
SUMMARY:Ennis Bluebonnet Trails Festival
DESCRIPTION:The Ennis Bluebonnet Trails Festival will be held April 8 – 10
  in the heart of historic downtown Ennis on Dallas Street. Celebrating 70
  years of bluebonnet trails\, the festival kicks off at 10 am on Friday\,
  April 8 th  and continues through Sunday\, April 10 at 6 pm.  \n  \nAdmis
 sion is $5 for adults. Children 12 and under are free. Purchase tickets at
  the gate.  \n  \nThe festival includes unique vendors\, food\, a beer gar
 den\, wine wander and fabulous live entertainment. Music on the Main stage
  Friday night will feature Infinite Journey\, an internationally known Jou
 rney Tribune Band.  Country music artist Rick Trevino will headline on Sat
 urday night.  \n  \nThroughout the entire month of April\, visitors are in
 vited to experience 40 miles of mapped bluebonnet trails featuring longhor
 n cows\, horses and the gorgeous wildflowers.  \n  \nFor more information
  visit\,  bluebonnettrail.org  or download the Ennis Y’all app to get upda
 tes and for a trail map.  \n  \nEnnis Bluebonnet Trails Festival \nFriday\
 , April 8 – 10 am to 9 pm \nSaturday\, April 9 – 10 am to 9 pm \nSunday\,
  April 10 – 10 am to 6 pm\nHistorial Downtown Ennis\n201 NW Main\nEnnis\,
  TX 75119 United States\n
LOCATION:201 NW Main\, Ennis\, TX 75119
URL:http://plano.bubblelife.com/community/aardvark_communications/library/3
 5964942/key/3511198832/Ennis_Bluebonnet_Trails_Festival
CREATED:20220321T181136Z
LAST-MODIFIED:20220321T181136Z
DTSTAMP:20260420T214130Z
CLASS:PUBLIC
STATUS:CONFIRMED
TRANSP:TRANSPARENT
SEQUENCE:1
END:VEVENT
END:VCALENDAR
