BEGIN:VCALENDAR
VERSION:2.0
BEGIN:VEVENT
UID:EF400AB7-FD86-484B-ACA8-23868283DF10
DTSTART:20220423T100000Z
DTEND:20220423T113000Z
SUMMARY:Collin County Oper Christmas Child Celebration
DESCRIPTION:For years\, south Collin County residents have been a part of O
 peration Christmas Child \, a global project of Samaritan’s Purse that sha
 res the true meaning of Christmas with children in need around the world.
  On April 23\, volunteers from around the south Collin County area will ga
 ther to celebrate an awesome and successful 2021 season. With a goal of pa
 cking more than 17\,777 shoeboxes with fun toys\, school supplies and hygi
 ene items in 2021\, we far exceeded the goal and want to share the success
  with all our shoebox packing partners. These gift-filled shoeboxes contri
 buted to Samaritan’s Purse’s global goal of reaching more than 9.7 million
  children in Jesus’ Name. \nYou are invited to our Operation Christmas Chi
 ld Celebration and Prayer Event where we will come together to celebrate a
 ll that the Lord did in 2021 through you and in Collin County South.  It w
 ill be a time of celebration\, testimony\, prayer\, and encouragement for
  the amazing things we did in 2021 and know will occur in 2022.  \nOCC Cel
 ebration and Prayer Event \nFirst Baptist Wylie \n100 N First St\,   Wylie
 \, TX 75098   Rm 248 \nSaturday\, April 23   10:00 – 11:30 am \nIt is open
  to all who lead or assist in shoebox packing efforts\, anyone who wishes
  to hold a packing party\, or anyone who desires to learn more about the m
 ission and impact of Operation Christmas Child. \n Register Here or for mo
 re information\, contact Susan Seibert\, Area Coordinator at susan.occtx@g
 mail.com\nFirst Baptist Wylie\n100 N First St  Rm 248\nWylie\, TX 75098 Un
 ited States\n
LOCATION:100 N First St  Rm 248\, Wylie\, TX 75098
URL:http://plano.bubblelife.com/community/operation_christmas_child_collin_
 county/library/358782700/key/3511100593/Collin_County_Oper_Christmas_Child
 _Celebration
CREATED:20220404T221334Z
LAST-MODIFIED:20220404T221334Z
DTSTAMP:20260425T171213Z
CLASS:PUBLIC
STATUS:CONFIRMED
TRANSP:TRANSPARENT
SEQUENCE:1
END:VEVENT
END:VCALENDAR
